BEGIN:VCALENDAR
VERSION:2.0
PRODID:-// - ECPv5.14.1//NONSGML v1.0//EN
CALSCALE:GREGORIAN
METHOD:PUBLISH
X-ORIGINAL-URL:https://redherringcomedy.co.uk
X-WR-CALDESC:Events for 
REFRESH-INTERVAL;VALUE=DURATION:PT1H
X-Robots-Tag:noindex
X-PUBLISHED-TTL:PT1H
BEGIN:VTIMEZONE
TZID:UTC
BEGIN:STANDARD
TZOFFSETFROM:+0000
TZOFFSETTO:+0000
TZNAME:UTC
DTSTART:20210101T000000
END:STANDARD
END:VTIMEZONE
BEGIN:VEVENT
DTSTART;TZID=UTC:20210820T220000
DTEND;TZID=UTC:20210820T233000
DTSTAMP:20260421T192125
CREATED:20210331T140853Z
LAST-MODIFIED:20210817T151835Z
UID:305-1629496800-1629502200@redherringcomedy.co.uk
SUMMARY:Jimmy Carr: Terribly Funny - Late Show
DESCRIPTION:Jimmy’s brand new show contains jokes about all kinds of terrible things. \nTerrible things that might have affected you or people you know and love.  \nBut they’re just jokes – they are not the terrible things. \nHaving political correctness at a comedy show is like having health and safety at a rodeo. \n\nDate: 20th August 2021\nDoors: 8.15pm / Show: 10pm\nTickets: £29.50\nAge: 16+\nBox Office: 0871 220 0260\nVenue website: www.engineshed.co.uk
URL:https://redherringcomedy.co.uk/event/jimmy-carr-terribly-funny-late-show/
LOCATION:The Engine Shed\, Lincoln\, University of Lincoln\, Brayford Pool\, Lincoln\, Lincolnshire\, LN6 7TS\, United Kingdom
CATEGORIES:Comedy,Engine Shed Lincoln,Lincoln
ATTACH;FMTTYPE=image/jpeg:https://redherringcomedy.co.uk/wp-content/uploads/2021/03/JIMMY-CARR-TERRIBLY-FUNNY-TOUR-IMAGE-LANDSCAPE-AND-TITLE-copy.jpg
END:VEVENT
END:VCALENDAR