BEGIN:VCALENDAR
VERSION:2.0
PRODID:-// - ECPv5.14.1//NONSGML v1.0//EN
CALSCALE:GREGORIAN
METHOD:PUBLISH
X-ORIGINAL-URL:https://redherringcomedy.co.uk
X-WR-CALDESC:Events for 
REFRESH-INTERVAL;VALUE=DURATION:PT1H
X-Robots-Tag:noindex
X-PUBLISHED-TTL:PT1H
BEGIN:VTIMEZONE
TZID:UTC
BEGIN:STANDARD
TZOFFSETFROM:+0000
TZOFFSETTO:+0000
TZNAME:UTC
DTSTART:20270101T000000
END:STANDARD
END:VTIMEZONE
BEGIN:VEVENT
DTSTART;TZID=UTC:20270316T183000
DTEND;TZID=UTC:20270316T193000
DTSTAMP:20260420T175556
CREATED:20260304T101247Z
LAST-MODIFIED:20260304T101830Z
UID:1891-1805221800-1805225400@redherringcomedy.co.uk
SUMMARY:Maisie Adam: Whatsherface
DESCRIPTION:Book Tickets \nStraight off the back of Taskmaster\, A League Of Their Own\, and Last One Laughing\, Maisie Adam is back with her new show Whatsherface. \nJoin the “tall\, chaotic one with the weird hair”* as she returns with her trademark wit\, firecracker gags\, and probably a few angry outbursts along the way. \n*A genuine description given by her best friend’s Mum at a wedding this year. \n⭐️⭐️⭐️⭐️⭐️ Daily Express \n⭐️⭐️⭐️⭐️ The Guardian\n⭐️⭐️⭐️⭐️ The List\n⭐️⭐️⭐️⭐️ “a complete comedy natural\, currently at the top of her game” Evening Standard
URL:https://redherringcomedy.co.uk/event/maisie-adam-whatsherface/
LOCATION:The Engine Shed\, Lincoln\, University of Lincoln\, Brayford Pool\, Lincoln\, Lincolnshire\, LN6 7TS\, United Kingdom
CATEGORIES:Comedy,Engine Shed Lincoln,Lincoln
ATTACH;FMTTYPE=image/jpeg:https://redherringcomedy.co.uk/wp-content/uploads/2026/03/Copy-of-1350x1080-1.jpg
END:VEVENT
BEGIN:VEVENT
DTSTART;TZID=UTC:20270408T190000
DTEND;TZID=UTC:20270408T230000
DTSTAMP:20260420T175556
CREATED:20260206T160719Z
LAST-MODIFIED:20260206T161054Z
UID:1867-1807210800-1807225200@redherringcomedy.co.uk
SUMMARY:Lucy Beaumont: Bad At Quiz Shows\, Good With Weirdos
DESCRIPTION:Book Tickets \nLucy Beaumont has had quite the year. She lost a contestant £79\,000 on The Wheel\, forgot\nto revise for Mastermind\, and generally confirmed she’s terrible at quiz shows. So she’s\nsticking with what she does best – this autumn\, she’s back on the road with a brand new\nshow. \nFollowing the success of her sell-out debut UK tour\, Lucy returns with Bad at Quiz Shows\,\nGood with Weirdos – an evening packed with chaotic brilliance\, mayhem\, and beautifully\nsurreal storytelling that’s made her one of the UK’s most beloved comedians. \nExpect tales of going into hiding after Celebrity Traitors\, creating cow udder couture on The\nGreat British Sewing Bee\, and navigating life as someone for whom “normal” has never made\nmuch of an appearance. \nWhether you loved her on Taskmaster\, know her from her award-winning sitcom\, or just\nappreciate someone who turns everyday disasters into comedic gold\, this is the night out\nyou need. \nCome for the chaos. Stay for the weirdos.
URL:https://redherringcomedy.co.uk/event/lucy-beaumont-bad-at-quiz-shows-good-with-weirdos/
LOCATION:The Engine Shed\, Lincoln\, University of Lincoln\, Brayford Pool\, Lincoln\, Lincolnshire\, LN6 7TS\, United Kingdom
CATEGORIES:Comedy,Engine Shed Lincoln,Lincoln
ATTACH;FMTTYPE=image/jpeg:https://redherringcomedy.co.uk/wp-content/uploads/2025/10/Quotes-1080px-x-1440px.jpg
END:VEVENT
END:VCALENDAR