BEGIN:VCALENDAR
VERSION:2.0
PRODID:-// - ECPv5.14.1//NONSGML v1.0//EN
CALSCALE:GREGORIAN
METHOD:PUBLISH
X-ORIGINAL-URL:https://redherringcomedy.co.uk
X-WR-CALDESC:Events for 
REFRESH-INTERVAL;VALUE=DURATION:PT1H
X-Robots-Tag:noindex
X-PUBLISHED-TTL:PT1H
BEGIN:VTIMEZONE
TZID:UTC
BEGIN:STANDARD
TZOFFSETFROM:+0000
TZOFFSETTO:+0000
TZNAME:UTC
DTSTART:20230101T000000
END:STANDARD
END:VTIMEZONE
BEGIN:VEVENT
DTSTART;TZID=UTC:20230903T193000
DTEND;TZID=UTC:20230903T213000
DTSTAMP:20260423T094141
CREATED:20221115T164752Z
LAST-MODIFIED:20221115T164752Z
UID:944-1693769400-1693776600@redherringcomedy.co.uk
SUMMARY:Dan Nightingale's Special
DESCRIPTION:Dan has spent the last two years changing the comedy industry from the inside out\, paving new career paths for himself and many others; whilst being one half of the smash-hit podcast Have A Word.  \nFollowing on from the triple-extended 2022 tour Smasher; 2023 will see him hit the road again to show even more people what 18\,000 monthly patreons\, 55\,000 YouTube subscribers and one million monthly download & viewers already know – that Dan Nightingale’s Special. \n“Genuinely hilarious. He has a show that other more famous comedians would be proud of.” Chortle \n“It is his powers of observation that make him so entertaining. Outrageously funny!” Keeping Up With NZ \n“Dan Nightingale should only ever be the last act on any bill” Dominic Holland
URL:https://redherringcomedy.co.uk/event/dan-nightingales-special-2/
LOCATION:The Drill\, Lincoln\, The Drill\, Free School Lane\, Lincoln\, Lincolnshire\, LN2 1EY\, United Kingdom
CATEGORIES:Comedy,Lincoln,The Drill
ATTACH;FMTTYPE=image/jpeg:https://redherringcomedy.co.uk/wp-content/uploads/2022/11/Horizontal-with-LOGO-scaled.jpg
END:VEVENT
END:VCALENDAR