BEGIN:VCALENDAR
VERSION:2.0
PRODID:-// - ECPv5.14.1//NONSGML v1.0//EN
CALSCALE:GREGORIAN
METHOD:PUBLISH
X-ORIGINAL-URL:https://redherringcomedy.co.uk
X-WR-CALDESC:Events for 
REFRESH-INTERVAL;VALUE=DURATION:PT1H
X-Robots-Tag:noindex
X-PUBLISHED-TTL:PT1H
BEGIN:VTIMEZONE
TZID:UTC
BEGIN:STANDARD
TZOFFSETFROM:+0000
TZOFFSETTO:+0000
TZNAME:UTC
DTSTART:20230101T000000
END:STANDARD
END:VTIMEZONE
BEGIN:VEVENT
DTSTART;TZID=UTC:20230521T150000
DTEND;TZID=UTC:20230521T170000
DTSTAMP:20260423T153643
CREATED:20210331T122439Z
LAST-MODIFIED:20221007T122339Z
UID:287-1684681200-1684688400@redherringcomedy.co.uk
SUMMARY:Russell Howard Live
DESCRIPTION:Russell Howard\, “one of the world’s top comedians” (Sunday Times) is back for a brand new live tour of the UK in 2023. \nAs we reel from one global crisis to the next\, join Russell\, ‘the uplifting Comedy King’\, as he puts the world to rights in his own uniquely hilarious way.  \n★★★★★ Mail On Sunday\n★★★★★ Metro\n★★★★★ Chortle\n★★★★ Evening Standard\n★★★★ The Times\n★★★★ The Independent\n★★★★ The Telegraph \n\nDate: 21st May 2023\nDoors: 2.00pm / Show: 3.00pm\nTickets:\nAge: 14+\nBox Office: 0871 220 0260\nVenue website: www.engineshed.co.uk
URL:https://redherringcomedy.co.uk/event/russell-howard-live-2/
LOCATION:The Engine Shed\, Lincoln\, University of Lincoln\, Brayford Pool\, Lincoln\, Lincolnshire\, LN6 7TS\, United Kingdom
CATEGORIES:Comedy,Engine Shed Lincoln,Lincoln
ATTACH;FMTTYPE=image/jpeg:https://redherringcomedy.co.uk/wp-content/uploads/2021/03/720_405.jpg
END:VEVENT
END:VCALENDAR