BEGIN:VCALENDAR
VERSION:2.0
PRODID:-// - ECPv5.14.1//NONSGML v1.0//EN
CALSCALE:GREGORIAN
METHOD:PUBLISH
X-ORIGINAL-URL:https://redherringcomedy.co.uk
X-WR-CALDESC:Events for 
REFRESH-INTERVAL;VALUE=DURATION:PT1H
X-Robots-Tag:noindex
X-PUBLISHED-TTL:PT1H
BEGIN:VTIMEZONE
TZID:UTC
BEGIN:STANDARD
TZOFFSETFROM:+0000
TZOFFSETTO:+0000
TZNAME:UTC
DTSTART:20230101T000000
END:STANDARD
END:VTIMEZONE
BEGIN:VEVENT
DTSTART;TZID=UTC:20230504T193000
DTEND;TZID=UTC:20230504T213000
DTSTAMP:20260423T153643
CREATED:20221005T093227Z
LAST-MODIFIED:20221005T093227Z
UID:862-1683228600-1683235800@redherringcomedy.co.uk
SUMMARY:Rhys James: Spilt Milk
DESCRIPTION:Rhys James is right back where he belongs: on tour around the country\, with a markedly different schedule to Chelsea’s fixture list to prove he is not the footballer. \nOne of the final Mock The Week regulars and star of Live At The Apollo\, Rhys’s previous tour sold out over 70 dates nationwide. Since then he’s released a third\, ARIA nominated\, Radio 4 series; starred in ‘The Great American Joke Off’ for US network The CW; and been hurled through the air on a bungee cord by Micah Richards on ‘A League Of Their Own’. \nAlso seen on Richard Osman’s House Of Games (dressing gown\, luggage\, decanter)\, Celebrity Mastermind (The US Office\, 3rd place) and Pointless Celebrities (wore a tuxedo\, out in round 2). \n“Master of the lightning-paced\, gag-dense\, precision-delivered set” The Guardian \n“Scintillating stand-up” – The Times ★★★★ \n“An immaculately crafted set… crowd-pleasing\, relatable entertainment rarely comes any sharper.” Evening Standard ★★★★ \n“A ton of smart\, intricately-written jokes and stories where you’re never more than a few seconds away from another punchline.” Time Out ★★★★
URL:https://redherringcomedy.co.uk/event/rhys-james-spilt-milk/
LOCATION:The Engine Shed\, Lincoln\, University of Lincoln\, Brayford Pool\, Lincoln\, Lincolnshire\, LN6 7TS\, United Kingdom
CATEGORIES:Comedy,Lincoln,The Platform
ATTACH;FMTTYPE=image/jpeg:https://redherringcomedy.co.uk/wp-content/uploads/2022/09/800x400-RJ-SM.jpg
END:VEVENT
END:VCALENDAR