BEGIN:VCALENDAR
VERSION:2.0
PRODID:-// - ECPv5.14.1//NONSGML v1.0//EN
CALSCALE:GREGORIAN
METHOD:PUBLISH
X-ORIGINAL-URL:https://redherringcomedy.co.uk
X-WR-CALDESC:Events for 
REFRESH-INTERVAL;VALUE=DURATION:PT1H
X-Robots-Tag:noindex
X-PUBLISHED-TTL:PT1H
BEGIN:VTIMEZONE
TZID:UTC
BEGIN:STANDARD
TZOFFSETFROM:+0000
TZOFFSETTO:+0000
TZNAME:UTC
DTSTART:20220101T000000
END:STANDARD
END:VTIMEZONE
BEGIN:VEVENT
DTSTART;TZID=UTC:20221101T200000
DTEND;TZID=UTC:20221101T220000
DTSTAMP:20260424T004556
CREATED:20211208T104848Z
LAST-MODIFIED:20220404T091948Z
UID:660-1667332800-1667340000@redherringcomedy.co.uk
SUMMARY:Paul Chowdhry: Family Friendly Comedian
DESCRIPTION:RESCHEDULED DATE \nFollowing a complete sell-out 2021 tour\, star of global smash hit ‘Live Innit’\, Taskmaster & the first British-Asian stand-up to sell-out London’s Wembley Arena adds extra 2022 dates! \nAfter barely surviving the pandemic\, and with two years of pent-up killer material\, Paul tackles the UK’s handling of the pandemic\, why the rules of six only worked for white people\, fame\, England football fans and Tom Cruise landing his helicopter in someone’s garden. Don’t miss it. \n\nDate: 1st November 2022\nDoors: 7:00pm / Show: 8pm\nTickets: £25 & £35\nAge: 14+\nVenue website: www.engineshed.co.uk
URL:https://redherringcomedy.co.uk/event/paul-chowdhry-family-friendly-comedian/
LOCATION:The Engine Shed\, Lincoln\, University of Lincoln\, Brayford Pool\, Lincoln\, Lincolnshire\, LN6 7TS\, United Kingdom
CATEGORIES:Comedy,Engine Shed Lincoln,Lincoln
ATTACH;FMTTYPE=image/jpeg:https://redherringcomedy.co.uk/wp-content/uploads/2021/12/Paul-Chowdhry-FAMILY-FRIENDLY-1000x584-22.jpeg
END:VEVENT
END:VCALENDAR