BEGIN:VCALENDAR
VERSION:2.0
PRODID:-// - ECPv5.14.1//NONSGML v1.0//EN
CALSCALE:GREGORIAN
METHOD:PUBLISH
X-ORIGINAL-URL:https://redherringcomedy.co.uk
X-WR-CALDESC:Events for 
REFRESH-INTERVAL;VALUE=DURATION:PT1H
X-Robots-Tag:noindex
X-PUBLISHED-TTL:PT1H
BEGIN:VTIMEZONE
TZID:UTC
BEGIN:STANDARD
TZOFFSETFROM:+0000
TZOFFSETTO:+0000
TZNAME:UTC
DTSTART:20220101T000000
END:STANDARD
END:VTIMEZONE
BEGIN:VEVENT
DTSTART;TZID=UTC:20220911T193000
DTEND;TZID=UTC:20220911T213000
DTSTAMP:20260420T163019
CREATED:20210426T182932Z
LAST-MODIFIED:20220531T075833Z
UID:428-1662924600-1662931800@redherringcomedy.co.uk
SUMMARY:Hal Cruttenden: It's Best You Hear It From Me
DESCRIPTION:Re-scheduled date from 12th February 2022. \nAfter 21 years and 224 days Hal’s back being single. But it’s all going to be fine. Instead of getting the therapy he clearly needs\, he’s made a cracking show about it. He’s lost enough weight to almost get his wedding ring off and\, while he may be flying solo\, he’s far from alone; he’s got his grown-up daughters\, his dogs and his divorce lawyer. The fickle finger of fate has turned Hal’s life upside down but he’s sticking a finger right back at it.  \n★★★★★ ‘Go and see Hal Cruttenden\, he’s got something to say and he’ll make you laugh a lot!’ Daily Mirror \n★★★★★ ‘Funniest he’s ever been’ Sunday Times \n★★★★ ‘The comedy gift that keeps on giving’ Scotsman \n★★★★ “Reminded me how much I love stand up” Times
URL:https://redherringcomedy.co.uk/event/hal-cruttenden-its-best-you-hear-it-from-me/
LOCATION:The Engine Shed\, Lincoln\, University of Lincoln\, Brayford Pool\, Lincoln\, Lincolnshire\, LN6 7TS\, United Kingdom
CATEGORIES:Comedy,Engine Shed Lincoln,Lincoln,The Platform
ATTACH;FMTTYPE=image/jpeg:https://redherringcomedy.co.uk/wp-content/uploads/2021/04/Hal-Cruttenden-640-x-320-scaled.jpg
END:VEVENT
END:VCALENDAR