BEGIN:VCALENDAR
VERSION:2.0
PRODID:-// - ECPv5.14.1//NONSGML v1.0//EN
CALSCALE:GREGORIAN
METHOD:PUBLISH
X-ORIGINAL-URL:https://redherringcomedy.co.uk
X-WR-CALDESC:Events for 
REFRESH-INTERVAL;VALUE=DURATION:PT1H
X-Robots-Tag:noindex
X-PUBLISHED-TTL:PT1H
BEGIN:VTIMEZONE
TZID:UTC
BEGIN:STANDARD
TZOFFSETFROM:+0000
TZOFFSETTO:+0000
TZNAME:UTC
DTSTART:20250101T000000
END:STANDARD
END:VTIMEZONE
BEGIN:VEVENT
DTSTART;TZID=UTC:20250913T200000
DTEND;TZID=UTC:20250913T220000
DTSTAMP:20260421T203131
CREATED:20250703T134515Z
LAST-MODIFIED:20250703T134515Z
UID:1733-1757793600-1757800800@redherringcomedy.co.uk
SUMMARY:Red Herring Comedy Club - Sept 13th
DESCRIPTION:Book Tickets \nMATT RICHARDSON \n“High wattage charisma from a talented young comic whose star is on the rise” THE GUARDIAN \n“Hilarious and Charming” THE MIRROR \n“Sharp\, Funny and Warm” HEAT MAGAZINE \n“This young stand-up is poised to become the next bright young sensation on the comedy circuit – expect to hear a lot more of him” THE GUARDIAN \n“A whirling ball of talent\, energy and intelligent observational comedy who spoke with great skill and affection of his family and his experiences. He comes across as a man who could read the phonebook and make it funny\, but instead of painting by numbers his comedy is sharp\, strong and very impressive.” OFF-BEAT MAGAZINE \nINGRID DAHLE a Norwegian comedian\, is making waves on the British comedy circuit. Ingrid has captivated audiences with her unique style and infectious energy. Her solo shows have been well-received\, showcasing her sharp wit and distinct comedic voice. \nIn addition to her solo work\, Ingrid has supported acclaimed comedians like Jen Brister on her last two tours and Desiree Burch. Ingrid previously won the Brighton Comedy Award and been a finalist in several prestigious competitions\, such as “So You Think You’re Funny?” and the Leicester Mercury Comedian of the Year\, where she was the runner-up \n“alternative hero of the future” – Chortle” \n“fast-rising comedian” – Sunday Times \n“warm host\, with bags of energy\, and a permanent smile” – The List \nMC HAMMERSMITH \nis a multi-award winning hip hop comedian. He writes and performs original hip hop comedy tracks\, and performs improvised freestyle rap comedy based on audience suggestions. \nHe is the world’s leading rapper to ever emerge from the ghetto of middle-class west London. Now based in Edinburgh\, he performs across the UK and internationally. \nIn his live shows\, MC Hammersmith performs improvised hip hop comedy. He is a freestyle rapper – meaning he raps spontaneously\, unscripted\, with absolutely no preparation. Thelyrics and rhymes of his raps are 100% improvised and based entirely on crowd suggestions. \nHe takes stories and suggestions from audience members\, then raps about them at lightning speed. Mind-blowing\, hilarious\, and completely different every single time. \nMC DAISY EARL \nHilarious’ Chortle \n‘Crisp storytelling talent and self-deprecating humour\, a rare cunning\, defiant attitude. \n‘An incredibly likeable comedian with an obvious talent for bringing a room along with her‘- The Wee Review \nDaisy is a multi-award winning British comedian. She is an exciting new voice and has quickly established herself as being one of the best loved acts on the UK comedy scene playing all of the most prestigious comedy clubs. \n‘Strikingly honest and hilarious’ – Huffington Post \nShe is naturally funny and her warm storytelling style mixed with a sharp edge makes her an audience favourite. Daisy is a winner of the Scottish Comedian of the Year Award\, ScottishVariety Award and Chortle Best Newcomer Award. Daisy has provided tour support for Jason Manford\, John Bishop and T om Stade and has performed alongside her comedy hero Sarah Millican in Sarah’s live new material show ‘Playground’. \nLine up subject to change
URL:https://redherringcomedy.co.uk/event/red-herring-comedy-club-sept-13th/
LOCATION:The Drill\, Lincoln\, The Drill\, Free School Lane\, Lincoln\, Lincolnshire\, LN2 1EY\, United Kingdom
CATEGORIES:Comedy,Lincoln,The Drill
ATTACH;FMTTYPE=image/jpeg:https://redherringcomedy.co.uk/wp-content/uploads/2025/07/Red-Herring-600x600-SEPT-13TH-25.jpg
END:VEVENT
END:VCALENDAR