BEGIN:VCALENDAR
VERSION:2.0
PRODID:-// - ECPv5.14.1//NONSGML v1.0//EN
CALSCALE:GREGORIAN
METHOD:PUBLISH
X-ORIGINAL-URL:https://redherringcomedy.co.uk
X-WR-CALDESC:Events for 
REFRESH-INTERVAL;VALUE=DURATION:PT1H
X-Robots-Tag:noindex
X-PUBLISHED-TTL:PT1H
BEGIN:VTIMEZONE
TZID:UTC
BEGIN:STANDARD
TZOFFSETFROM:+0000
TZOFFSETTO:+0000
TZNAME:UTC
DTSTART:20230101T000000
END:STANDARD
END:VTIMEZONE
BEGIN:VEVENT
DTSTART;TZID=UTC:20230615T200000
DTEND;TZID=UTC:20230615T220000
DTSTAMP:20260423T123229
CREATED:20221124T095418Z
LAST-MODIFIED:20221124T095418Z
UID:958-1686859200-1686866400@redherringcomedy.co.uk
SUMMARY:Dara O'Briain: So....Where Were We?
DESCRIPTION:Dara Ó Briain is back on tour\, with a brand new show! \nAt the end of his last tour\, Dara had performed the show “Voice Of Reason” 180 times\, over 2 years across 20 countries\, from Auckland to Reykjavik\, from Moscow to New York; and by March 2020 he was ready for a break!\nHe would now like to apologise for saying that and will never wish for anything like that again. \nYes\, he’s back on tour\, and he will never stop again\, because that’s clearly what caused all this trouble. Instead\, in his new show ‘So\, Where Were We?” Dara will hardly mention the last year and a half\, because\, Jesus\, who wants to hear about that? Instead\, Dara will fire out the usual mix of stories\, one-liners\, audience messing and tripping over his words by talking too quickly because he’s so giddy to be back in front of a crowd. \n“Pure\, undiluted comic genius” Evening Standard \n“His set is a masterclass in intelligent\, no-frills stand-up” The Guardian \n“If you want a comic who can hold an audience in the palm of his hand for two hours\, here’s your man” The Times
URL:https://redherringcomedy.co.uk/event/dara-obriain-so-where-were-we/
LOCATION:The Engine Shed\, Lincoln\, University of Lincoln\, Brayford Pool\, Lincoln\, Lincolnshire\, LN6 7TS\, United Kingdom
CATEGORIES:Comedy,Engine Shed Lincoln,Lincoln
ATTACH;FMTTYPE=image/jpeg:https://redherringcomedy.co.uk/wp-content/uploads/2022/11/Dara-OBriain-15th-June-2023-FACEBOOK-SLIDER-TEMPLATE-2022-copy-2.jpg
END:VEVENT
END:VCALENDAR