BEGIN:VCALENDAR
VERSION:2.0
PRODID:-// - ECPv5.14.1//NONSGML v1.0//EN
CALSCALE:GREGORIAN
METHOD:PUBLISH
X-ORIGINAL-URL:https://redherringcomedy.co.uk
X-WR-CALDESC:Events for 
REFRESH-INTERVAL;VALUE=DURATION:PT1H
X-Robots-Tag:noindex
X-PUBLISHED-TTL:PT1H
BEGIN:VTIMEZONE
TZID:UTC
BEGIN:STANDARD
TZOFFSETFROM:+0000
TZOFFSETTO:+0000
TZNAME:UTC
DTSTART:20230101T000000
END:STANDARD
END:VTIMEZONE
BEGIN:VEVENT
DTSTART;TZID=UTC:20230303T200000
DTEND;TZID=UTC:20230303T220000
DTSTAMP:20260423T165526
CREATED:20220216T171733Z
LAST-MODIFIED:20220216T171733Z
UID:718-1677873600-1677880800@redherringcomedy.co.uk
SUMMARY:David O'Doherty: whoa is me
DESCRIPTION:Here he comes again\, trotting on to the stage with all of the misplaced confidence of a waiter with no pad. Is he going to remember it? OH YES HE IS. There’ll be lots of talking\, some apologising and some songs on a glued together plastic keyboard from 1986. \nAs seen on Channel 4’s ‘8 Out of 10 Cats Does Countdown‘ and BBC’s ‘Live At the Apollo.‘
URL:https://redherringcomedy.co.uk/event/david-odoherty-whoa-is-me/
LOCATION:The Engine Shed\, Lincoln\, University of Lincoln\, Brayford Pool\, Lincoln\, Lincolnshire\, LN6 7TS\, United Kingdom
CATEGORIES:Comedy,Engine Shed Lincoln,Lincoln
ATTACH;FMTTYPE=image/jpeg:https://redherringcomedy.co.uk/wp-content/uploads/2022/02/DavidODoherty-whoaisme_2022_square_text.jpg
END:VEVENT
BEGIN:VEVENT
DTSTART;TZID=UTC:20230326T200000
DTEND;TZID=UTC:20230326T220000
DTSTAMP:20260423T165526
CREATED:20220411T171317Z
LAST-MODIFIED:20220411T171317Z
UID:777-1679860800-1679868000@redherringcomedy.co.uk
SUMMARY:Jimmy Carr: Terribly Funny 2.0
DESCRIPTION:Star of the UK’s most streamed Netflix comedy special of 2021\, Jimmy is back on the road with brand new material for 2022 and 2023.   \nJimmy’s show contains jokes about all kinds of terrible things.\nTerrible things that might have affected you or people you know and love.\nBut they’re just jokes – they are not the terrible things.  \nHaving political correctness at a comedy show is like having health and safety at a rodeo. \nNow you’ve been warned\, buy a ticket.
URL:https://redherringcomedy.co.uk/event/jimmy-carr-terribly-funny-2-0/
LOCATION:The Engine Shed\, Lincoln\, University of Lincoln\, Brayford Pool\, Lincoln\, Lincolnshire\, LN6 7TS\, United Kingdom
CATEGORIES:Comedy,Engine Shed Lincoln,Lincoln
ATTACH;FMTTYPE=image/jpeg:https://redherringcomedy.co.uk/wp-content/uploads/2022/04/JC_2022_landscape.jpg
END:VEVENT
END:VCALENDAR