BEGIN:VCALENDAR
VERSION:2.0
PRODID:-// - ECPv5.14.1//NONSGML v1.0//EN
CALSCALE:GREGORIAN
METHOD:PUBLISH
X-ORIGINAL-URL:https://redherringcomedy.co.uk
X-WR-CALDESC:Events for 
REFRESH-INTERVAL;VALUE=DURATION:PT1H
X-Robots-Tag:noindex
X-PUBLISHED-TTL:PT1H
BEGIN:VTIMEZONE
TZID:UTC
BEGIN:STANDARD
TZOFFSETFROM:+0000
TZOFFSETTO:+0000
TZNAME:UTC
DTSTART:20230101T000000
END:STANDARD
END:VTIMEZONE
BEGIN:VEVENT
DTSTART;TZID=UTC:20230201T193000
DTEND;TZID=UTC:20230201T213000
DTSTAMP:20260423T182158
CREATED:20210421T161231Z
LAST-MODIFIED:20221201T100055Z
UID:350-1675279800-1675287000@redherringcomedy.co.uk
SUMMARY:Jon Richardson: The Knitwit
DESCRIPTION:. SOLD OUT \nThis show has been rearranged from 17th Dec 2020 and then 22 Oct 2021. All ticket holders will be contacted by your ticketing supplier\, however all original tickets remain valid for this new date. \nA statement from Jon… \nI’m very sorry to say that the Knitwit tour is going to be delayed by another year and will now start in September 2022. \nThe delayed reopening of clubs means quite simply that even were I to return to gigging immediately I couldn’t guarantee being ready to perform to the standard I expect when shows were due to begin in September and I don’t want to let down anyone who has paid for a ticket\, especially when times are so hard. \nI am sorry for all those of you who were looking forward to coming along at the end of this year and I apologise also to the theatres and their staff who are depending on a return to normality to keep their doors open. I feel a great responsibility to you all and have had to make what I believe to be the best choice from two bad options. \nI recognise that for many of you this will be three years after you first bought tickets and I can only imagine how circumstances might have changed for you all in the meantime. As before you will contacted by your local theatre and offered a rescheduled date or a refund for your tickets. Please wait for the venue to contact you with the new date as they are working very hard to get shows rearranged. \nI apologise for a formal and sombre tone. I am in no doubt that not getting to hear my whining voice will not be the worst thing that happens to anyone this year\, but still I am gutted not to be heading out on the road as promised. I hope to see you all next year with a show that will be worthy of your patience and loyalty. \nOriginal Show copy \nWill the recycling be put out on the right day? Who is going to smooth over the top of the margarine? How many lights are on upstairs when everybody is downstairs?  Watch Jon pretend that these aren’t his foremost concerns as he leaves home on his first tour since the last one. \nBest known as a team captain on 8 Out of 10 Cats Does Cats Countdown (Channel 4)\, host of Dave’s Ultimate Worrier\, and upcoming sitcom Meet the Richardsons. As well as Would I Lie To You (BBC One)\, Have I Got News For You (BBC One)\, Michael McIntyre’s Comedy Roadshow (BBC One)\, and Taskmaster (Dave). \n“Whip-smart comedy… His mind is extraordinary” – GQ \n“Moany old brilliance” – Metro \n“A wildly funny whinge of volcanic frustrations” – ★★★★ – The Guardian
URL:https://redherringcomedy.co.uk/event/jon-richardson-the-knitwit/
LOCATION:The Engine Shed\, Lincoln\, University of Lincoln\, Brayford Pool\, Lincoln\, Lincolnshire\, LN6 7TS\, United Kingdom
CATEGORIES:Comedy,Engine Shed Lincoln,Lincoln
ATTACH;FMTTYPE=image/jpeg:https://redherringcomedy.co.uk/wp-content/uploads/2021/11/Jon-Richardson-Feb-2023.jpg
END:VEVENT
BEGIN:VEVENT
DTSTART;TZID=UTC:20230202T193000
DTEND;TZID=UTC:20230202T213000
DTSTAMP:20260423T182158
CREATED:20211108T111416Z
LAST-MODIFIED:20221201T095918Z
UID:606-1675366200-1675373400@redherringcomedy.co.uk
SUMMARY:Jon Richardson: The Knitwit
DESCRIPTION:SOLD OUT \nWill the recycling be put out on the right day? Who is going to smooth over the top of the margarine? How many lights are on upstairs when everybody is downstairs?  Watch Jon pretend that these aren’t his foremost concerns as he leaves home on his first tour since the last one. \nBest known as a team captain on 8 Out of 10 Cats Does Cats Countdown (Channel 4)\, host of Dave’s Ultimate Worrier\, and upcoming sitcom Meet the Richardsons. As well as Would I Lie To You (BBC One)\, Have I Got News For You (BBC One)\, Michael McIntyre’s Comedy Roadshow (BBC One)\, and Taskmaster (Dave). \n“Whip-smart comedy… His mind is extraordinary” – GQ \n“Moany old brilliance” – Metro \n“A wildly funny whinge of volcanic frustrations” – ★★★★ – The Guardian
URL:https://redherringcomedy.co.uk/event/jon-richardson-the-knitwit-2/
LOCATION:The Engine Shed\, Lincoln\, University of Lincoln\, Brayford Pool\, Lincoln\, Lincolnshire\, LN6 7TS\, United Kingdom
CATEGORIES:Comedy,Engine Shed Lincoln,Lincoln
ATTACH;FMTTYPE=image/jpeg:https://redherringcomedy.co.uk/wp-content/uploads/2021/11/Jon-Richardson-Feb-2023.jpg
END:VEVENT
BEGIN:VEVENT
DTSTART;TZID=UTC:20230219T200000
DTEND;TZID=UTC:20230219T220000
DTSTAMP:20260423T182158
CREATED:20221005T094127Z
LAST-MODIFIED:20221005T094127Z
UID:873-1676836800-1676844000@redherringcomedy.co.uk
SUMMARY:Maisie Adam: Buzzed
DESCRIPTION:Fresh from Live at The Apollo\, A League of Their Own\, Mock The Week\, and The Last Leg\, Best Newcomer nominee Maisie Adam is back with her new show ‘Buzzed’.  \nRammed with witty observations\, high-octane energy and some right good jokes.  This high-energy show promises to be better than whatever else you had planned (unless you had plans to go dancing with Cher).   \n⭐️⭐️⭐️⭐️⭐️ Daily Express\n⭐️⭐️⭐️⭐️⭐️ One4Review\n⭐️⭐️⭐️⭐️⭐️ Voice Magazine\n⭐️⭐️⭐️⭐️⭐️ Funny Women\n⭐️⭐️⭐️⭐️⭐️ Everything Theatre \n⭐️⭐️⭐️⭐️\n‘thoroughly engaging ……… bursting with puppyish pleasure’\nThe Guardian  \n⭐️⭐️⭐️⭐️\n‘The hair is fun\, the live performance is way funnier.  …..wonderfully witty”\nEvening Standard \n⭐️⭐️⭐️⭐️\n‘A treat …… hilarious’\nThe List \n‘Maisie Adam is phenomenal‘\nThe Scotsman
URL:https://redherringcomedy.co.uk/event/maisie-adam-buzzed/
LOCATION:The Engine Shed\, Lincoln\, University of Lincoln\, Brayford Pool\, Lincoln\, Lincolnshire\, LN6 7TS\, United Kingdom
CATEGORIES:Comedy,Lincoln,The Platform
ATTACH;FMTTYPE=image/jpeg:https://redherringcomedy.co.uk/wp-content/uploads/2022/10/Maisie-Adam-19th-Feb-2023-FACEBOOK-SLIDER-TEMPLATE-2022-copy-2.jpg
END:VEVENT
END:VCALENDAR