BEGIN:VCALENDAR
VERSION:2.0
PRODID:-// - ECPv5.14.1//NONSGML v1.0//EN
CALSCALE:GREGORIAN
METHOD:PUBLISH
X-ORIGINAL-URL:https://redherringcomedy.co.uk
X-WR-CALDESC:Events for 
REFRESH-INTERVAL;VALUE=DURATION:PT1H
X-Robots-Tag:noindex
X-PUBLISHED-TTL:PT1H
BEGIN:VTIMEZONE
TZID:UTC
BEGIN:STANDARD
TZOFFSETFROM:+0000
TZOFFSETTO:+0000
TZNAME:UTC
DTSTART:20210101T000000
END:STANDARD
END:VTIMEZONE
BEGIN:VEVENT
DTSTART;TZID=UTC:20211107T200000
DTEND;TZID=UTC:20211107T223000
DTSTAMP:20260424T170457
CREATED:20210423T145442Z
LAST-MODIFIED:20210424T105423Z
UID:393-1636315200-1636324200@redherringcomedy.co.uk
SUMMARY:Sindhu Vee: Alphabet
DESCRIPTION:A brand-new show about the hair we want\, the friends we have\, and living the vast difference between virus and viral. \nExpect “outspoken\, frank and funny stand-up” (Evening Standard) from this Edinburgh Comedy Awards Best Newcomer nominee. \nAs seen on Live At The Apollo\, QI\, Have I Got News For You and Sex Education and heard on Radio 4’s Things My Mother Never Told Me (…About Lockdown) and The Guilty Feminist podcast. \n“Acerbic perspective and unapologetic delivery” – The List
URL:https://redherringcomedy.co.uk/event/sindhu-vee-alphabet/
LOCATION:The Engine Shed\, Lincoln\, University of Lincoln\, Brayford Pool\, Lincoln\, Lincolnshire\, LN6 7TS\, United Kingdom
CATEGORIES:Comedy,Engine Shed Lincoln,Lincoln,The Platform
ATTACH;FMTTYPE=image/jpeg:https://redherringcomedy.co.uk/wp-content/uploads/2021/04/Sindhu-Vee-Alphabet-Tour-Image-with-title.jpg
END:VEVENT
BEGIN:VEVENT
DTSTART;TZID=UTC:20211109T200000
DTEND;TZID=UTC:20211109T223000
DTSTAMP:20260424T170457
CREATED:20210423T150019Z
LAST-MODIFIED:20210424T105510Z
UID:395-1636488000-1636497000@redherringcomedy.co.uk
SUMMARY:Tom Stade: You Ain't Seen Nothing Yet
DESCRIPTION:Tom is back on the road with a brand-new show. The kids have moved out and it’s the dawn of a new era! Tom’s embracing change with his usual spirit and irrepressible sense of mischief; what’s coming is way better than what has gone! \n30 years on the comedy frontline and this Canadian legend remains as engaging\, innovative and hilarious as ever. As seen on Ch4’s Comedy Gala\, BBC One’s Michael McIntyre’s Comedy Roadshow\, The John Bishop Show and Live at the Apollo. \n“For energy think Porsche 911: 0-60mph in 2.9 seconds. Wouldn’t be out of place in an arena. Career-wise he’s just getting into his stride” – Mail on Sunday \n“Swagger of a rock star\, charisma of a talk show host. Hilarious. See for yourself before the secret gets out” – Warrington Guardian \n“UNMISSABLE” – Edinburgh Evening News
URL:https://redherringcomedy.co.uk/event/tom-stade-you-aint-seen-nothing-yet/
LOCATION:The Engine Shed\, Lincoln\, University of Lincoln\, Brayford Pool\, Lincoln\, Lincolnshire\, LN6 7TS\, United Kingdom
CATEGORIES:Comedy,Engine Shed Lincoln,Lincoln,The Platform
ATTACH;FMTTYPE=image/jpeg:https://redherringcomedy.co.uk/wp-content/uploads/2021/04/Tom-Stade-YASNY-Tour-poster-copy.jpeg
END:VEVENT
BEGIN:VEVENT
DTSTART;TZID=UTC:20211114T193000
DTEND;TZID=UTC:20211114T223000
DTSTAMP:20260424T170457
CREATED:20210423T150921Z
LAST-MODIFIED:20210423T151041Z
UID:399-1636918200-1636929000@redherringcomedy.co.uk
SUMMARY:Chris Ramsey: 2021
DESCRIPTION:Critically acclaimed comedian Chris Ramsey is hitting the road for his biggest ever stand-up tour in 2021. Having filled venues across the country including The Newcastle Metro Arena\, twice\, “Ramsey has the potential to be a mainstream hit\, a cult favourite or almost anything in between” (Sunday Times)\, so don’t miss your chance to catch him live on stage while you can. \nRecently seen hosting two series of his very own TV show The Chris Ramsey Show and Chris Ramsey’s Stand up Central (both Comedy Central)\, he has also been a regular face on many major comedy shows including Celebrity Juice (ITV2)\, 8 out of 10 Cats (C4)\, Live at the Comedy Store (Comedy Central) and Virtually Famous (E4) to name a few. \n“Frighteningly talented… tearing up every stage he lands on” – James Mullinger\, GQ \n“A brilliantly engaging natural storyteller” – Bruce Dessau\, Evening Standard
URL:https://redherringcomedy.co.uk/event/chris-ramsey-2021/
LOCATION:The Engine Shed\, Lincoln\, University of Lincoln\, Brayford Pool\, Lincoln\, Lincolnshire\, LN6 7TS\, United Kingdom
CATEGORIES:Comedy,Engine Shed Lincoln,Lincoln
ATTACH;FMTTYPE=image/jpeg:https://redherringcomedy.co.uk/wp-content/uploads/2021/04/CHRIS-RAMSEY-300x300-copy.jpg
END:VEVENT
BEGIN:VEVENT
DTSTART;TZID=UTC:20211118T193000
DTEND;TZID=UTC:20211118T223000
DTSTAMP:20260424T170457
CREATED:20210423T151418Z
LAST-MODIFIED:20210423T151418Z
UID:402-1637263800-1637274600@redherringcomedy.co.uk
SUMMARY:Jason Manford: Like Me
DESCRIPTION:He’s back! It’s been a busy few years for Jason since his last smash-hit stand up show but fans of his Absolute Radio show will know this nationally acclaimed comedian hasn’t changed a bit. ‘Like Me’ is Jason’s latest comic offering set to hit road\, and is sure to be ‘expert observational comedy’ (The Guardian) mixed with ‘comic gold’ (Mail on Sunday).  \nJason said:  “After the fun we had on my last tour ‘Muddle Class’\, I’m excited to get back on the road with my new stand up show\, ‘Like Me’. In these trying times it’s always important to be able to get away for a couple of hours and exercise the old chuckle muscle! So I’m coming to a venue near you in 2021 so we can have a good laugh together. See you then.” \n‘First & Last’ (BBC One)\, ‘The Masked Singer’ (ITV1)\, ‘What Would Your Kid Do?’ (ITV1)\, ‘Olivier Awards’ (ITV1)\, ‘Scarborough’ (BBC One)\, ‘8 out of 10 Cats’ (Channel 4)\, ‘The Nightly Show’ (ITV1)\, ‘Sunday Night at the Palladium’ (ITV1)\, ‘Live at the Apollo’ (BBC One)\, ‘Have I Got News For You’\, (BBC One)\, QI (BBC Two) and ‘The Royal Variety Performance’ (ITV1) have all helped establish Jason as a nationally known comic. \n“Effortlessly entertaining” – ★★★★ – Evening Standard
URL:https://redherringcomedy.co.uk/event/jason-manford-like-me/
LOCATION:The Engine Shed\, Lincoln\, University of Lincoln\, Brayford Pool\, Lincoln\, Lincolnshire\, LN6 7TS\, United Kingdom
CATEGORIES:Comedy,Engine Shed Lincoln,Lincoln
ATTACH;FMTTYPE=image/jpeg:https://redherringcomedy.co.uk/wp-content/uploads/2021/04/JM_LikeMe_A5Hvenue-copy.jpg
END:VEVENT
BEGIN:VEVENT
DTSTART;TZID=UTC:20211126T200000
DTEND;TZID=UTC:20211126T223000
DTSTAMP:20260424T170457
CREATED:20210423T152151Z
LAST-MODIFIED:20210425T111859Z
UID:406-1637956800-1637965800@redherringcomedy.co.uk
SUMMARY:Jack Dee: Off The Telly
DESCRIPTION:Join Jack Dee for an evening of entertainment (food and beverages not included) in his new stand-up tour. \n“In these difficult and uncertain times people need hope – a ray of sunshine to brighten their day. And that’s very much where I come in” says Jack. \nStar of TV sitcoms Bad Move\, Lead Balloon and Josh\, Jack also hosts the legendary Radio 4 show I’m Sorry I Haven’t A Clue. Additional credits include presenting Jack Dee’s Helpdesk on BBC Two\, C4’s The Jack Dee Show\, ITV’s Jack Dee’s Saturday Night\, BBC’s Jack Dee’s Happy Hour and Jack Dee Live at the Apollo. “In fact\,” explains Jack\, “I’ve probably appeared in every TV show with my name in the title”. \nOther side-lines include Motivational Speaking\, which Jack describes as “Basically a total waste of time\, talking to losers\, but the cash is decent” and then adds “Don’t print that”. It’s so hard to tell when he’s being serious. \nIn recognition of his charity work\, Jack was denied an OBE in 2015.
URL:https://redherringcomedy.co.uk/event/jack-dee-off-the-telly/
LOCATION:The Engine Shed\, Lincoln\, University of Lincoln\, Brayford Pool\, Lincoln\, Lincolnshire\, LN6 7TS\, United Kingdom
CATEGORIES:Comedy,Engine Shed Lincoln,Lincoln
ATTACH;FMTTYPE=image/jpeg:https://redherringcomedy.co.uk/wp-content/uploads/2021/04/Jack-Dee-2019-c-Aemen-Sukkar-MedRes.jpg
END:VEVENT
END:VCALENDAR