BEGIN:VCALENDAR
VERSION:2.0
PRODID:-// - ECPv5.14.1//NONSGML v1.0//EN
CALSCALE:GREGORIAN
METHOD:PUBLISH
X-ORIGINAL-URL:https://redherringcomedy.co.uk
X-WR-CALDESC:Events for 
REFRESH-INTERVAL;VALUE=DURATION:PT1H
X-Robots-Tag:noindex
X-PUBLISHED-TTL:PT1H
BEGIN:VTIMEZONE
TZID:UTC
BEGIN:STANDARD
TZOFFSETFROM:+0000
TZOFFSETTO:+0000
TZNAME:UTC
DTSTART:20210101T000000
END:STANDARD
END:VTIMEZONE
BEGIN:VEVENT
DTSTART;TZID=UTC:20211014T193000
DTEND;TZID=UTC:20211014T223000
DTSTAMP:20260424T184035
CREATED:20210421T160826Z
LAST-MODIFIED:20210422T150413Z
UID:348-1634239800-1634250600@redherringcomedy.co.uk
SUMMARY:Scott Bennett: Relax
DESCRIPTION:Fluid Thinking presents… \nScott is a diagnosed stress head\, he’s tried everything\, but nothing seems to work.  He’s trying his best to live with it\, but that is proving to be a challenge. The only comfort is that he knows he’s not alone. We are all under pressure\, life is manic\, we seem to be in constant demand. \nHave we now reached the point where we’ve all forgotten how to relax? \nA brand new show from one of comedy’s fastest rising performers. \nScott’s last show “Leap Year” was nominated for “Best Show” at The Leicester Comedy Festival. \nAmused Moose Edinburgh Comedy Award Nominee. \nA writer for Chris Ramsey (Comedy Central)\, First and Last with Jason Manford (BBC)\, The Citizen of Nowhere with Daliso Chaponda (BBC Radio) and tour support for Rob Brydon and Paul Sinha. \n“Great material\, a very funny man” – Rob Brydon \n“A joy to watch” – Chris Ramsey \nAs heard on Absolute Radio\, BBC 4 Extra\, BBC Radio 4\nAs seen on BBC Live from the Edinburgh Fringe
URL:https://redherringcomedy.co.uk/event/scott-bennett-relax/
LOCATION:The Engine Shed\, Lincoln\, University of Lincoln\, Brayford Pool\, Lincoln\, Lincolnshire\, LN6 7TS\, United Kingdom
CATEGORIES:Comedy,Engine Shed Lincoln,Lincoln,The Platform
ATTACH;FMTTYPE=image/jpeg:https://redherringcomedy.co.uk/wp-content/uploads/2021/03/Scott-Bennett-fb-cover_RELAX-copy.jpg
END:VEVENT
BEGIN:VEVENT
DTSTART;TZID=UTC:20211027T193000
DTEND;TZID=UTC:20211027T223000
DTSTAMP:20260424T184035
CREATED:20210421T162323Z
LAST-MODIFIED:20210422T150345Z
UID:357-1635363000-1635373800@redherringcomedy.co.uk
SUMMARY:Sarah Millican: Bobby Dazzler
DESCRIPTION:The hilarious Sarah Millican is back on tour with a Bobby Dazzler of a new stand-up show.  \nIn this\, her sixth international tour\, you’ll learn about what happens when your mouth seals shut\, how to throw poo over a wall\, trying to lose weight but only losing the tip of your finger\, a surprisingly funny smear test\, and how truly awful a floatation tank can actually be. \nSarah has spent the last year writing jokes and growing her backside. She can’t wait to get back on the road and make you laugh.
URL:https://redherringcomedy.co.uk/event/sarah-millican-bobby-dazzler/
LOCATION:The Engine Shed\, Lincoln\, University of Lincoln\, Brayford Pool\, Lincoln\, Lincolnshire\, LN6 7TS\, United Kingdom
CATEGORIES:Comedy,Engine Shed Lincoln,Lincoln
ATTACH;FMTTYPE=image/jpeg:https://redherringcomedy.co.uk/wp-content/uploads/2021/03/SarahMillican_BobbyDazzler_Landscape-copy.jpg
END:VEVENT
BEGIN:VEVENT
DTSTART;TZID=UTC:20211031T193000
DTEND;TZID=UTC:20211031T223000
DTSTAMP:20260424T184035
CREATED:20210421T162607Z
LAST-MODIFIED:20210422T150320Z
UID:359-1635708600-1635719400@redherringcomedy.co.uk
SUMMARY:Sarah Millican: Bobby Dazzler
DESCRIPTION:The hilarious Sarah Millican is back on tour with a Bobby Dazzler of a new stand-up show.  \nIn this\, her sixth international tour\, you’ll learn about what happens when your mouth seals shut\, how to throw poo over a wall\, trying to lose weight but only losing the tip of your finger\, a surprisingly funny smear test\, and how truly awful a floatation tank can actually be. \nSarah has spent the last year writing jokes and growing her backside. She can’t wait to get back on the road and make you laugh.
URL:https://redherringcomedy.co.uk/event/sarah-millican-bobby-dazzler-2/
LOCATION:The Engine Shed\, Lincoln\, University of Lincoln\, Brayford Pool\, Lincoln\, Lincolnshire\, LN6 7TS\, United Kingdom
CATEGORIES:Comedy,Engine Shed Lincoln,Lincoln
ATTACH;FMTTYPE=image/jpeg:https://redherringcomedy.co.uk/wp-content/uploads/2021/03/SarahMillican_BobbyDazzler_Landscape-copy.jpg
END:VEVENT
END:VCALENDAR